BEGIN:VCALENDAR
VERSION:2.0
PRODID:-//hacksw/handcal//NONSGML v1.0//EN
BEGIN:VEVENT
SUMMARY:Rando a Sourniac
UID:3364637f-9fcf-455b-895c-7dfd5a1d8a69
DTSTART:20260309T230000Z
DTEND:20260310T230000Z
LOCATION:Localisation   
CATEGORIES:Sportif
STATUS:
DESCRIPTION:<p>mardi 10 mars rando au depart de Sourniac, boucle de
 15 km et 430 m de D+, pas de difficulte particuliere.<br>
 Rendez-vous
 a 09h30 a Sourniac (Parking face Eglise) ou 09h15 au parking de
 l’ancien Centrakor (kiosque a pizza) prevoir le pique-nique.</p>
URL;VALUE=URI:https://mauriac-rando-aventures.sportsregions.fr/evenements/2026/03/10/rando-a-sourniac-2423161
END:VEVENT
END:VCALENDAR
