BEGIN:VCALENDAR
VERSION:2.0
PRODID:-//hacksw/handcal//NONSGML v1.0//EN
BEGIN:VEVENT
SUMMARY:Rando monts
UID:8a302385-595c-4277-a8f3-bb0285478f29
DTSTART:20260316T230000Z
DTEND:20260317T230000Z
LOCATION:Localisation   
CATEGORIES:Sportif
STATUS:
DESCRIPTION:<p>Mardi 17 mars, direction la montagne. <br>
 Depart :
 parking des vestiges de Cotteughes (un peu avant le col d’Aulac en
 venant de Trizac)<br>
 Distance : 17 km avec 550 m D+<br>
 Une belle
 sortie montagne avec picnic au buron de la Bobe.<br>
  Rendez-vous a
 08h45 Parking ancien Centrakor (kiosque a pizza) ou 09h20 parking de
 Cotteughes<br>
 Prevoir le picnic.</p>
URL;VALUE=URI:https://mauriac-rando-aventures.sportsregions.fr/evenements/2026/03/17/rando-monts-2423162
END:VEVENT
END:VCALENDAR
