BEGIN:VCALENDAR
VERSION:2.0
PRODID:-//hacksw/handcal//NONSGML v1.0//EN
BEGIN:VEVENT
SUMMARY:Rando a Valette
UID:9cda9f3e-9c78-4c25-847d-16289562b051
DTSTART:20260413T220000Z
DTEND:20260414T220000Z
LOCATION:Localisation   
CATEGORIES:Sportif
STATUS:
DESCRIPTION:<p>Mardi 14 avril sortie rando au depart de Valette,
 <strong>16 km et 450 d+</strong>, des montees, des descentes et du
 plat :)</p>
 
 <p>Rendez-vous a 09 h 00 parking ancien centrakor,
 kiosque a pizzas, ou 09 h 30 a Valette, Eglise. Prevoir le
 picnic.</p>
URL;VALUE=URI:https://mauriac-rando-aventures.sportsregions.fr/evenements/2026/04/14/rando-a-valette-2431055
END:VEVENT
END:VCALENDAR
