BEGIN:VCALENDAR
VERSION:2.0
PRODID:-//hacksw/handcal//NONSGML v1.0//EN
BEGIN:VEVENT
SUMMARY:Rando a La Gazelle
UID:f984e825-36ca-4657-82d6-84594503a6dc
DTSTART:20260420T220000Z
DTEND:20260421T220000Z
LOCATION:Localisation   
CATEGORIES:Sportif
STATUS:
DESCRIPTION:Mardi rando au depart du Parking du pont de la Gazelle
 (Segur Les Villas), 18 km et 350 d+ sans difficulte
 particuliere. <div>Prevoir le picnic.</div><div>Rdv au parking
 ancien Centrakor kiosque a pizza a 08h20 ou directement a la Gazelle
 a 09h15.</div>
URL;VALUE=URI:https://mauriac-rando-aventures.sportsregions.fr/evenements/2026/04/21/rando-a-la-gazelle-2439792
END:VEVENT
END:VCALENDAR
